{"text_format":"1","workbook":"xlsx","n_sheets":7,"sheets":["Zestawienie zmian w kap. wł","WYBRANE DANE FINANSOWE","BILANS AKTYWA","BILANS PASYWA","P&LA","CF","Wskaźniki _I"],"not_rendered":{"charts":0,"images":0,"macros":1,"external_links":0,"defined_names":11,"comments":0,"pivot_tables":0},"unopened":[],"bounds":{"document_bytes":16777216,"sheet_cells":100000,"rows_first":2000,"rows_last":500,"rows_between":2000,"halvings":0,"cell_chars":16384,"cell_head_chars":4096},"cells_cut":0,"cells_raw":0,"read":"whole","date_system":"1900"}

{"sheet":"Zestawienie zmian w kap. wł","index":0,"n_rows":74,"n_cols":6,"rows_kept":74,"cut":false,"hidden":true,"merged":[[2,1,4,4],[62,2,62,4],[71,2,71,4],[5,1,5,4]]}
[]
[]
[null,"ZESTAWIENIE ZMIAN W KAPITALE (FUNDUSZU) WŁASNYM",null,null,null,"Stan na\n31.12.2012"]
[null,null,null,null,null,"CAPITAL SERVICE S.A."]
[null,null,null,null,null,2012]
[]
[null,"I.","Kapitał  własny na początek okresu (BO) ",null,null,{"$f":"#REF!","v":{"$error":"#REF!"}}]
[null,null,"- korekty błędów podstawowych",null,null,0]
[null,"Ia.","Kapitał  własny na początek okresu (BO), po korektach ",null,null,{"$f":"F7+F8","v":{"$error":"#REF!"}}]
[null,"1.","Kapitał podstawowy na początek okresu ",null,null,{"$f":"3058587.21","v":3058587.21}]
[null,"1.1. ","Zwiększenie kapitału podstawowego - z tytułu:",null,null,{"$f":"SUM(F12:F12)","v":941412.79}]
[null,null," - podziału zysku 2011 r.",null,null,941412.79]
[null,"1.2.","Zmniejszenie kapitału podstawowego - z tytułu:",null,null,{"$f":"SUM(F14:F14)","v":0}]
[null,null,"- umorzenia udziałów",null,null,0]
[null,"1.3.","Kapitał podstawowy na koniec okresu",null,null,{"$f":"F10+F11-F13","v":4000000}]
[null,"2.","Należne wpłaty na kapitał podstawowy na początek okresu",null,null,0]
[null,"2.1.","Zwiększenie należnych wpłat na kapitał podstawowy - z tytułu:",null,null,0]
[null,"2.2.","Zmniejszenie należnych wpłat na kapitał podstawowy - z tytułu:",null,null,0]
[null,"2.3. ","Należne wpłaty na kapitał podstawowy na koniec okresu",null,null,{"$f":"SUM(F16:F18)","v":0}]
[null,"3.","Udziały własne na początek okresu",null,null,0]
[null,"3.1.","Zwiększenie - z tytułu ....",null,null,0]
[null,"3.2..","Zmniejszenie - z tytułu ....",null,null,0]
[null,"3.3.","Udziały własne na koniec okresu",null,null,{"$f":"SUM(F20:F22)","v":0}]
[null,"4.","Kapitał zapasowy na początek okresu",null,null,0]
[null,"4.1.","Zwiększenie kapitału zapasowego - z tytułu",null,null,{"$f":"SUM(F26:F26)","v":0}]
[null,null,"- z podziału zysku ",null,null,0]
[null,"4.2","Zmniejszenie kapitału zapasowego - z tytułu",null,null,0]
[null,null,"- przeniesienia na fundusz rezerwowy",null,null,0]
[null,"4.3","Stan kapitału zapasowego na koniec okresu",null,null,{"$f":"F24+F25-F27","v":0}]
[null,"5.","Kapitał  z aktualizacji wyceny na początek okresu",null,null,0]
[null,"5.1.","Zwiększenie kapitału z aktualizacji wyceny z tytułu",null,null,0]
[null,"5.2","Zmniejszenie kapitału z aktualizacji wyceny z tytułu",null,null,{"$f":"SUM(F33:F33)","v":0}]
[null,null,"- zbycia środków trwałych (przeniesiono na kapitał rezerwowy)",null,null,0]
[null,"5.3.","Kapitał z aktualizacji wyceny na koniec okresu",null,null,{"$f":"F30+F31+F32","v":0}]
[null,"6.","Pozostałe kapitały rezerwowe na początek okresu",null,null,{"$f":"0","v":0}]
[null,"6.1.","Zwiększenie pozostałych kapitałów rezerwowych - razem, w tym z tytułu:",null,null,{"$f":"SUM(F37:F41)","v":279696.13}]
[null,null,"-  przeniesienia z kapitału zapasowego",null,null,0]
[null,null,"-  podziału zysku 2011 r.",null,null,{"$f":"279696.13","v":279696.13}]
[null,null,"-  przeniesienia kapitału z aktualizacji",null,null,0]
[null,null,"- emisji udziałów powyżej wartości nominalnej (aggio)",null,null,0]
[null,null,"-  z innych tytułów",null,null,0]
[null,"6.2","Zmniejszenie pozostałych kapitałów rezerwowych - razem, w tym z tytułu:",null,null,{"$f":"SUM(F43:F46)","v":0}]
[null,null,"-  sfinansowania straty",null,null,0]
[null,null,"-  przeznaczenia na dodatkową dywidendę",null,null,0]
[null,null,"-  przeznaczenia na zwiększenie ilości / wartości udziałów w kapitale podstaw.",null,null,0]
[null,null,"-  z innych tytułów'",null,null,0]
[null,"6.3.","Pozostałe kapitały rezerwowe na koniec okresu",null,null,{"$f":"F35+F36-F42","v":279696.13}]
[null,"7.","Zysk (strata) z lat ubiegłych na początek okresu",null,null,{"$f":"F49-F59","v":0}]
[null,"7.1.","Zysk z lat ubiegłych na początek okresu",null,null,0]
[null,null,"- korekty błędów podstawowych",null,null,0]
[null,null,"- zysk z lat ubiegłych na początek okresu, po korektach",null,null,{"$f":"SUM(F49:F50)","v":0}]
[null,"7.2","Zmniejszenia zysku z lat ubiegłych w roku obrotowym - z tytułu:",null,null,0]
[null,null,"a) przeniesienia na kapitał  rezerwowy",null,null,0]
[null,null,"b) przeniesienia na kapitał  zapasowy",null,null,0]
[null,null,"c) wypłaconej dywidendy",null,null,0]
[null,null,"d) przeznaczenia na ZFŚS",null,null,0]
[null,null,"e) przeznaczenia na darowizny",null,null,0]
[null,"7.3.","Zysk z lat ubiegłych na koniec okresu",null,null,{"$f":"SUM(F51:F57)","v":0}]
[null,"7.4.","Strata z lat ubiegłych na początek okresu,",null,null,0]
[null,null,"- korekty błędów podstawowych",null,null,0]
[null,null,"- strata z lat ubiegłych na początek okresu, po korektach",null,null,0]
[null,"7.5","Zwiększenie straty z lat ub. w roku obrot. z tytułu ....",null,null,0]
[null,"7.6","Zmniejszenie straty z lat ub. w roku obrot. z tytułu sfinansowania z kap. rezerw.",null,null,0]
[null,"7.7.","Strata z lat ubiegłych na koniec okresu",null,null,{"$f":"SUM(F61:F63)","v":0}]
[null,"7.8.","Wynik finansowy z lat ubiegłych na koniec okresu - per saldo",null,null,{"$f":"F58-F64","v":0}]
[null,"8.","Wynik netto roku obrotowego (a-b-c)",null,null,{"$f":"SUM(F67:F69)","v":105633.08}]
[null,null,"a)  zysk netto",null,null,105633.08]
[null,null,"b)  strata netto 2012",null,null,0]
[null,null,"c)  odpisy z zysku",null,null,0]
[null,"II.","Kapitał  własny na koniec okresu (BZ)",null,null,{"$f":"F15-F19-F23+F29+F34+F47+F65+F66","v":4385329.21}]
[null,"IIIa.","Planowany podział zysku - poza kapitały własne (dywidenda itp.)",null,null,0]
[null,"IIIa.","Kapitał własny na koniec okresu, po uwzględnieniu proponowanego podziału zysku poza kapitały własne",null,null,{"$f":"F70-F71","v":4385329.21}]
[]
[null,null,null,null,{"$f":"#REF!","v":{"$error":"#REF!"}}]

{"sheet":"WYBRANE DANE FINANSOWE","index":1,"n_rows":29,"n_cols":9,"rows_kept":29,"cut":false,"hidden":false,"merged":[[1,3,1,5],[1,6,1,8]]}
[]
["Lp.","Pozycja:",null,"dane w tys. PLN",null,null,"dane w tys. EUR"]
[null,null,"Nota:","3 miesiące zakończone 31.03.2015 niebadane","31.12.2014 zbadane","3 miesiące zakończone 31.03.2014 niebadane","3 miesiące zakończone 31.03.2015 niebadane","31.12.2014 zbadane","3 miesiące zakończone 31.03.2014 niebadane"]
[]
[null,"Aktywa trwałe",null,3343000,2378000,2512000,818000,558000,602000]
[null,"Aktywa obrotowe",null,20032000,13838000,11292000,4899000,3247000,2707000]
[null,"Aktywa razem",null,{"$f":"D5+D6","v":23375000},{"$f":"E5+E6","v":16216000},{"$f":"F5+F6","v":13804000},{"$f":"SUM(G5:G6)","v":5717000},{"$f":"SUM(H5:H6)","v":3805000},{"$f":"SUM(I5:I6)","v":3309000}]
[]
[null,"Kapitały własne",null,10075000,7744000,6061000,2464000,1817000,1453000]
[null,"Zobowiązania i rezerwy na zobowiązania",null,13300000,8472000,7743000,3253000,1988000,1856000]
[null,"Pasywa razem",null,{"$f":"SUM(D9:D10)","v":23375000},{"$f":"SUM(E9:E10)","v":16216000},13804000,5717000,3805000,3309000]
[]
[null,"Przychody netto ze sprzedaży i zrównane z nimi",null,8432000,null,6244000,2032000,null,1490000]
[null,{"$f":"'P&LA'!C11","v":"Koszty działalności operacyjnej"},null,6743000,null,5289000,1625000,null,1262000]
[null,"Zysk (strata) ze sprzedaży",null,{"$f":"D13-D14","v":1689000},null,{"$f":"F13-F14","v":955000},{"$f":"G13-G14","v":407000},null,{"$f":"I13-I14","v":228000}]
[null,"Wynik na pozostałej działalności",null,1741000,null,165000,420000,null,39000]
[null,"Zysk (strata) z działalności operacyjnej",null,{"$f":"D15+D16","v":3430000},null,{"$f":"F15+F16","v":1120000},{"$f":"G15+G16","v":827000},null,{"$f":"I15+I16","v":267000}]
[null,"Wynik na operacjach finansowych",null,-717000,null,-209000,-173000,null,-50000]
[null,"Zysk (strata) z działalności gospodarczej",null,{"$f":"D17+D18","v":2713000},null,{"$f":"F17+F18","v":911000},{"$f":"G17+G18","v":654000},null,{"$f":"I17+I18","v":217000}]
[null,"Wynik zdarzeń nadzwyczajnych",null,0,null,0,0,null,0]
[null,"Zysk (strata) brutto",null,{"$f":"D19","v":2713000},null,{"$f":"F19","v":911000},{"$f":"G19+G20","v":654000},null,{"$f":"I19+I20","v":217000}]
[null,"Podatek dochodowy bieżący i odroczony",null,-382000,null,-319000,-92000,null,-76000]
[null,"Zysk (strata) netto",null,{"$f":"D21+D22","v":2331000},null,{"$f":"F21+F22","v":592000},{"$f":"G21+G22","v":562000},null,{"$f":"I21+I22","v":141000}]
[]
[null,"Przepływy środków pieniężnych:"]
[null,"- z działalności operacyjne",null,-220000,null,1623000,-53000,null,387000]
[null,"- inwestycyjnej",null,-1215000,null,-464000,-293000,null,-111000]
[null,"- finansowej",null,2617000,null,-711000,631000,null,-170000]
[null,"Zmiana stanu środków pieniężnych",null,{"$f":"SUM(D26:D28)","v":1182000},null,{"$f":"SUM(F26:F28)","v":448000},{"$f":"SUM(G26:G28)","v":285000},null,{"$f":"SUM(I26:I28)","v":106000}]

{"sheet":"BILANS AKTYWA","index":2,"n_rows":29,"n_cols":6,"rows_kept":29,"cut":false,"hidden":false,"merged":[[27,0,27,2],[28,0,28,2]]}
["Lp.",null,"Pozycja:","31.03.2015","31.12.2014","31.03.2014"]
[]
["A.",null,"Aktywa trwałe",{"$f":"D6+D8+D10+D12+D14","v":3343000},{"$f":"E6+E8+E10+E12+E14","v":2378000},{"$f":"F6+F8+F10+F12+F14","v":2512000}]
[null,null,"          udział w sumie bilansowej",{"$f":"D3/D$29","v":0.14301604278074867},{"$f":"E3/E$29","v":0.14664528860384804},{"$f":"F3/F$29","v":0.18197623877137062}]
[]
[null,"I.","Wartości niematerialne i prawne",49000,48000,51000]
[null,null,"          udział w sumie bilansowej",{"$f":"D6/D$29","v":2.0962566844919786E-3},{"$f":"E6/E$29","v":2.9600394671928957E-3},{"$f":"F6/F$29","v":3.6945812807881772E-3}]
[null,"II.","Rzeczowe aktywa trwałe",3132000,2168000,2376000]
[null,null,"          udział w sumie bilansowej",{"$f":"D8/D$29","v":0.13398930481283422},{"$f":"E8/E$29","v":0.13369511593487912},{"$f":"F8/F$29","v":0.17212402202260216}]
[null,"III.","Należności długoterminowe",0,0,0]
[null,null,"          udział w sumie bilansowej",{"$f":"D10/D$29","v":0},{"$f":"E10/E$29","v":0},{"$f":"F10/F$29","v":0}]
[null,"IV.","Inwestycje długoterminowe",0,0,0]
[null,null,"          udział w sumie bilansowej",{"$f":"D12/D$29","v":0},{"$f":"E12/E$29","v":0},{"$f":"F12/F$29","v":0}]
[null,"V.","Długoterminowe rozliczenia międzyokresowe",162000,162000,85000]
[null,null,"          udział w sumie bilansowej",{"$f":"D14/D$29","v":6.9304812834224596E-3},{"$f":"E14/E$29","v":9.990133201776023E-3},{"$f":"F14/F$29","v":6.1576354679802959E-3}]
[]
["B.",null,"Aktywa obrotowe",{"$f":"D20+D22+D24+D26","v":20032000},{"$f":"E20+E22+E24+E26","v":13838000},{"$f":"F20+F22+F24+F26","v":11292000}]
[null,null,"          udział w sumie bilansowej",{"$f":"D17/D$29","v":0.85698395721925136},{"$f":"E17/E$29","v":0.85335471139615193},{"$f":"F17/F$29","v":0.81802376122862941}]
[]
[null,"I.","Zapasy",533000,233000,89000]
[null,null,"          udział w sumie bilansowej",{"$f":"D20/D$29","v":2.2802139037433156E-2},{"$f":"E20/E$29","v":1.4368524913665515E-2},{"$f":"F20/F$29","v":6.4474065488264272E-3}]
[null,"II.","Należności krótkoterminowe",15709000,11159000,9809000]
[null,null,"`",{"$f":"D22/D$29","v":0.67204278074866308},{"$f":"E22/E$29","v":0.68814750863344842},{"$f":"F22/F$29","v":0.71059113300492616}]
[null,"III.","Inwestycje krótkoterminowe",3421000,2239000,1215000]
[null,null,"          udział w sumie bilansowej",{"$f":"D24/D$29","v":0.14635294117647057},{"$f":"E24/E$29","v":0.13807350764676862},{"$f":"F24/F$29","v":8.801796580701246E-2}]
[null,"IV.","Krótkoterminowe rozliczenia międzyokresowe",369000,207000,179000]
[null,null,"          udział w sumie bilansowej",{"$f":"D26/D$29","v":1.5786096256684493E-2},{"$f":"E26/E$29","v":1.2765170202269364E-2},{"$f":"F26/F$29","v":1.2967255867864387E-2}]
[{"$f":"#REF!","v":{"$error":"#REF!"}},{"$f":"#REF!","v":{"$error":"#REF!"}},{"$f":"#REF!","v":{"$error":"#REF!"}}]
["Aktywa razem",null,null,{"$f":"D17+D3","v":23375000},{"$f":"E17+E3","v":16216000},{"$f":"F17+F3","v":13804000}]

{"sheet":"BILANS PASYWA","index":3,"n_rows":37,"n_cols":6,"rows_kept":37,"cut":false,"hidden":false,"merged":[[35,0,35,2],[36,0,36,2]]}
["Lp.",null,"Pozycja:","31.03.2015","31.12.2014","31.03.2014"]
[]
["A.",null,"Kapitał (fundusz) własny",{"$f":"D6+D8+D10+D12+D14+D16+D18+D20+D22","v":10075000},{"$f":"E6+E8+E10+E12+E14+E16+E18+E20+E22","v":7744000},6061000]
[null,null,"          udział w sumie bilansowej",{"$f":"D3/D$37","v":0.43101604278074868},{"$f":"E3/E$37","v":0.47755303404045385},{"$f":"F3/F$37","v":0.43907563025210083}]
[]
[null,"I.","Kapitał (fundusz) podstawowy",4000000,4000000,4000000]
[null,null,"          udział w sumie bilansowej",{"$f":"D6/D$37","v":0.17112299465240641},{"$f":"E6/E$37","v":0.24666995559940799},{"$f":"F6/F$37","v":0.28977108084613157}]
[null,"II.","Należne wpłaty na kapitał podstawowy (wielkość ujemna)",0,0,0]
[null,null,"          udział w sumie bilansowej",{"$f":"D8/D$37","v":0},{"$f":"E8/E$37","v":0},{"$f":"F8/F$37","v":0}]
[null,"III.","Udziały (akcje) własne (wielkość ujemna)",0,0,0]
[null,null,"          udział w sumie bilansowej",{"$f":"D10/D$37","v":0},{"$f":"E10/E$37","v":0},{"$f":"F10/F$37","v":0}]
[null,"IV.","Kapitał (fundusz) zapasowy",207000,207000,105000]
[null,null,"          udział w sumie bilansowej",{"$f":"D12/D$37","v":8.8556149732620312E-3},{"$f":"E12/E$37","v":1.2765170202269364E-2},{"$f":"F12/F$37","v":7.6064908722109532E-3}]
[null,"V.","Kapitał (fundusz) z aktualizacji wyceny",0,0,0]
[null,null,"          udział w sumie bilansowej",{"$f":"D14/D$37","v":0},{"$f":"E14/E$37","v":0},{"$f":"F14/F$37","v":0}]
[null,"VI.","Pozostałe kapitały (fundusze) rezerwowe",1444000,1444000,280000]
[null,null,"          udział w sumie bilansowej",{"$f":"D16/D$37","v":6.1775401069518718E-2},{"$f":"E16/E$37","v":8.9047853971386287E-2},{"$f":"F16/F$37","v":2.0283975659229209E-2}]
[null,"VII.","Zysk (strata) z lat ubiegłych",2093000,-182000,1084000]
[null,null,"          udział w sumie bilansowej",{"$f":"D18/D$37","v":8.9540106951871659E-2},{"$f":"E18/E$37","v":-1.1223482979773063E-2},{"$f":"F18/F$37","v":7.8527962909301655E-2}]
[null,"VIII.","Zysk (strata) netto",2331000,2275000,592000]
[null,null,"          udział w sumie bilansowej",{"$f":"D20/D$37","v":9.972192513368984E-2},{"$f":"E20/E$37","v":0.14029353724716329},{"$f":"F20/F$37","v":4.2886119965227468E-2}]
[null,"IX.","Odpisy z zysku netto w ciągu roku obrotowego (wielkość ujemna)",0,0,0]
[null,null,"          udział w sumie bilansowej",{"$f":"D22/D$37","v":0},{"$f":"E22/E$37","v":0},{"$f":"F22/F$37","v":0}]
[]
["B.",null,"Zobowiązania i rezerwy na zobowiązania",{"$f":"D28+D30+D32+D34","v":13300000},{"$f":"E28+E30+E32+E34","v":8472000},{"$f":"F28+F30+F32+F34","v":7743000}]
[null,null,"          udział w sumie bilansowej",{"$f":"D25/D$37","v":0.56898395721925132},{"$f":"E25/E$37","v":0.52244696595954609},{"$f":"F25/F$37","v":0.56092436974789917}]
[]
[null,"I.","Rezerwy na zobowiązania",1235000,1155000,932000]
[null,null,"          udział w sumie bilansowej",{"$f":"D28/D$37","v":5.2834224598930481E-2},{"$f":"E28/E$37","v":7.1225949679329062E-2},{"$f":"F28/F$37","v":6.7516661837148648E-2}]
[null,"II.","Zobowiązania długoterminowe",3857000,576000,2330000]
[null,null,"          udział w sumie bilansowej",{"$f":"D30/D$37","v":0.16500534759358287},{"$f":"E30/E$37","v":3.5520473606314752E-2},{"$f":"F30/F$37","v":0.16879165459287163}]
[null,"III.","Zobowiązania krótkoterminowe",7367000,6391000,4015000]
[null,null,"          udział w sumie bilansowej",{"$f":"D32/D$37","v":0.31516577540106949},{"$f":"E32/E$37","v":0.39411692155895411},{"$f":"F32/F$37","v":0.29085772239930457}]
[null,"IV.","Rozliczenia międzyokresowe",841000,350000,466000]
[null,null,"          udział w sumie bilansowej",{"$f":"D34/D$37","v":3.5978609625668449E-2},{"$f":"E34/E$37","v":2.1583621114948201E-2},{"$f":"F34/F$37","v":3.3758330918574324E-2}]
[]
["Pasywa razem",null,null,{"$f":"D25+D3","v":23375000},{"$f":"E25+E3","v":16216000},{"$f":"F25+F3","v":13804000}]

{"sheet":"P&LA","index":4,"n_rows":56,"n_cols":6,"rows_kept":56,"cut":false,"hidden":false,"merged":[[0,0,1,0],[0,1,1,1],[0,2,1,2],[0,5,1,5]]}
["Lp.",null,"Pozycja:","01.01.2015-","01.01.2014-","% zmiany 2015 do 2014"]
[null,null,null,"31.03.2015","31.03.2014"]
[]
["A.",null,"Przychody netto ze sprzedaży i zrównane z nimi, w tym:",{"$f":"SUM(D5:D9)","v":8432000},{"$f":"SUM(E5:E9)","v":6244000},{"$f":"IFERROR((D4-E4)/E4,\"-\")","v":0.35041639974375399}]
[null,null,"Od jednostek powiązanych",0,0,{"$f":"IFERROR((D5-E5)/E5,\"-\")","v":"-"}]
[null,"I.","Przychody netto ze sprzedaży ",8376000,6244000,0.34144778987828317]
[null,"II.","Zmiana stanu produktów",0,0,"-"]
[null,"III.","Koszt wytworzenia produktów na własne potrzeby jedn.",0,0,"-"]
[null,"IV.","Przychody netto ze sprzedaży towarów i materiałów",56000,0,"-"]
[]
["B.",null,"Koszty działalności operacyjnej",{"$f":"SUM(D12:D19)","v":6743000},{"$f":"SUM(E12:E19)","v":5289000},{"$f":"IFERROR((D11-E11)/E11,\"-\")","v":0.27491019096237473}]
[null,"I.","Amortyzacja",262000,269000,-2.6022304832713755E-2]
[null,"II.","Zużycie materiałów i energii",392000,389000,7.7120822622107968E-3]
[null,"III.","Usługi obce",1793000,1309000,0.36974789915966388]
[null,"IV.","Podatki i opłaty",52000,45000,0.15555555555555556]
[null,"V.","Wynagrodzenia",3438000,2703000,0.27192008879023305]
[null,"VI.","Ubezpieczenia społeczne i inne świadczenia",733000,514000,0.42607003891050582]
[null,"VII.","Pozostałe koszty rodzajowe",73000,60000,0.21666666666666667]
[null,"VIII.","Wartość sprzedanych towarów i materiałów",0,0,"-"]
[]
["C.",null,"ZYSK / STRATA ZE SPRZEDAŻY (A-B)",{"$f":"D4-D11","v":1689000},{"$f":"E4-E11","v":955000},0.76858638743455499]
[null,null,null,null,null,"-"]
["D.",null,"Pozostałe przychody operacyjne",{"$f":"SUM(D24:D26)","v":3616000},{"$f":"SUM(E24:E26)","v":1430000},{"$f":"IFERROR((D23-E23)/E23,\"-\")","v":1.5286713286713287}]
[null,"I.","Zysk ze zbycia niefinansowych aktywów trwałych",7000,0,"-"]
[null,"II.","Dotacje",299000,109000,1.7431192660550459]
[null,"III.","Inne przychody operacyjne",3310000,1321000,1.5056775170325511]
[null,null,null,null,null,"-"]
["E.",null,"Pozostałe koszty operacyjne",{"$f":"SUM(D29:D31)","v":1875000},{"$f":"SUM(E29:E31)","v":1265000},{"$f":"IFERROR((D28-E28)/E28,\"-\")","v":0.48221343873517786}]
[null,"I.","Strata ze zbycia niefinansowych aktywów trwałych",0,0,"-"]
[null,"II.","Aktualizacja wartości aktywów niefinansowych",0,5000,-1]
[null,"III.","Inne koszty operacyjne",1875000,1260000,0.48809523809523808]
[]
["F.",null,"ZYSK / STRATA Z DZIAŁALNOŚCI OPERACYJNEJ (C+D-E)",{"$f":"D21+D23-D28","v":3430000},{"$f":"E21+E23-E28","v":1120000},2.0625]
[]
["G.",null,"Przychody finansowe",{"$f":"SUM(D36:D40)","v":5000},{"$f":"SUM(E36:E40)","v":1000},{"$f":"IFERROR((D35-E35)/E35,\"-\")","v":4}]
[null,"I.","Dywidendy i udziały w zyskach",0,0,"-"]
[null,"II.","Odsetki",5000,1000,4]
[null,"III.","Zysk ze zbycia inwestycji",0,0,"-"]
[null,"IV.","Aktualizacja wartości inwestycji",0,0,"-"]
[null,"V.","Inne",0,0,"-"]
[]
["H.",null,"Koszty finansowe",{"$f":"SUM(D43:D46)","v":722000},{"$f":"SUM(E43:E46)","v":210000},{"$f":"IFERROR((D42-E42)/E42,\"-\")","v":2.4380952380952383}]
[null,"I.","Odsetki",105000,103000,1.9417475728155338E-2]
[null,"II.","Strata ze zbycia inwestycji",0,0,"-"]
[null,"III.","Aktualizacja wartości inwestycji",0,0,"-"]
[null,"IV.","Inne",617000,107000,4.7663551401869162]
[]
["I.",null,"ZYSK / STRATA Z DZIAŁALNOŚCI GOSPODARCZEJ (F+G-H)",{"$f":"D33+D35-D42","v":2713000},{"$f":"E33+E35-E42","v":911000},1.978046103183315]
["J.",null,"Wynik zdarzeń nadzwyczajnych",0,0,"-"]
[]
["K.",null,"ZYSK / STRATA BRUTTO",{"$f":"D48+D49","v":2713000},{"$f":"E48+E49","v":911000},1.978046103183315]
[]
["L.",null,"Podatek dochodowy",382000,319000,0.19749216300940439]
["M.",null,"Pozostałe obowiązkowe zmniejszenia zysku (zwiększenia straty)",0,0,"-"]
[]
["N.",null,"ZYSK / STRATA NETTO (K-L-M)",{"$f":"D51-D53","v":2331000},{"$f":"E51-E53","v":592000},2.9375]

{"sheet":"CF","index":5,"n_rows":23,"n_cols":5,"rows_kept":23,"cut":false,"hidden":false,"merged":[[0,0,1,0],[0,1,1,1],[0,2,1,2]]}
["Lp.",null,"Pozycja:","01.01.2015-","01.01.2014-"]
[null,null,null,"31.03.2015","31.03.2014"]
[null,null,"Stan środków pieniężnych na pocz.okresu",2239000,767000]
[]
["A.",null,"Przepływy środków pieniężnych z działalności operacyjnej "]
[null,"I.","Zysk (strata) netto ",2331000,592000]
[null,"II.","Korekty razem",-2551000,1031000]
[null,"III.","Przepływy pieniężne netto z działalności operacyjnej (I+/–II)",{"$f":"D6+D7","v":-220000},{"$f":"E6+E7","v":1623000}]
[]
["B.",null,"Przepływy środków pieniężnych z działalności inwestycyjnej "]
[null,"I.","Wpływy",12000,1000]
[null,"II.","Wydatki",-1227000,-465000]
[null,"III.","Przepływy pieniężne netto z działalności inwestycyjnej (I–II)",{"$f":"D11+D12","v":-1215000},{"$f":"E11+E12","v":-464000}]
[]
["C.",null,"Przepływy środków pieniężnych z działalności finansowej "]
[null,"I.","Wpływy",3546000,141000]
[null,"II.","Wydatki",-929000,-852000]
[null,"III.","Przepływy pieniężne netto z działalności finansowej (I–II)",{"$f":"D16+D17","v":2617000},{"$f":"E16+E17","v":-711000}]
[]
["D.",null,"Przepływy pieniężne netto, razem (A.III+/–B.III+/-C.III) "]
["E.",null,"Bilansowa zmiana stanu środków pieniężnych, w tym:",{"$f":"D8+D13+D18","v":1182000},{"$f":"E8+E13+E18","v":448000}]
["F.",null,"Środki pieniężne na początek okresu",{"$f":"D3","v":2239000},{"$f":"E3","v":767000}]
["G.",null,"Środki pieniężne na koniec okresu (F+/–D), w tym:",{"$f":"D22+D21","v":3421000},{"$f":"E22+E21","v":1215000}]

{"sheet":"Wskaźniki _I","index":6,"n_rows":17,"n_cols":3,"rows_kept":17,"cut":false,"hidden":false,"merged":[[1,1,1,2],[1,0,2,0]]}
[]
[null,"Wskaźniki za  l kw. 2014 - 2015"]
[null,"31.03.2014","31.03.2015"]
["Wskaźniki zadłużenia"]
["Wskaźnik ogólnego zadłużenia",{"$f":"'BILANS PASYWA'!F25/'BILANS PASYWA'!F37","v":0.56092436974789917},{"$f":"'BILANS PASYWA'!D25/'BILANS PASYWA'!D37","v":0.56898395721925132}]
["Wskaźnik zadłużenia kapitału własnego ",{"$f":"'BILANS PASYWA'!F25/'BILANS PASYWA'!F3","v":1.2775119617224879},{"$f":"'BILANS PASYWA'!D25/'BILANS PASYWA'!D3","v":1.3200992555831266}]
["Wskaźnik zadłużenia netto / EBITDA",{"$f":"('BILANS PASYWA'!F25-'BILANS AKTYWA'!F24)/('P&LA'!E51-'P&LA'!E35+'P&LA'!E42+'P&LA'!E12)","v":4.6997840172786178},{"$f":"('BILANS PASYWA'!D25-'BILANS AKTYWA'!D24)/('P&LA'!D51-'P&LA'!D35+'P&LA'!D42+'P&LA'!D12)","v":2.6757854821235103}]
[]
["Wskaźniki płynności"]
["Wskaźnik płynności bieżącej",{"$f":"'BILANS AKTYWA'!F17/'BILANS PASYWA'!F32","v":2.8124533001245329},{"$f":"'BILANS AKTYWA'!D17/'BILANS PASYWA'!D32","v":2.7191529795031899}]
["Wskaźnik płynności szybkiej",{"$f":"('BILANS AKTYWA'!F17-'BILANS AKTYWA'!F20-'BILANS AKTYWA'!F26)/'BILANS PASYWA'!F32","v":2.7457036114570359},{"$f":"('BILANS AKTYWA'!D17-'BILANS AKTYWA'!D20-'BILANS AKTYWA'!D26)/'BILANS PASYWA'!D32","v":2.5967150807655761}]
["Wskaźnik płynności gotówkowej",{"$f":"'BILANS AKTYWA'!F24/'BILANS PASYWA'!F32","v":0.30261519302615192},{"$f":"'BILANS AKTYWA'!D24/'BILANS PASYWA'!D32","v":0.46436812813899825}]
[]
["Wskaźniki rentowności"]
["Wskaźnik rentowności sprzedaży",{"$f":"'P&LA'!E56/'P&LA'!E4","v":9.4811018577834721E-2},{"$f":"'P&LA'!D56/'P&LA'!D4","v":0.27644686907020871}]
["Wskaźnik rentowności kapitałów własnych",{"$f":"'P&LA'!E56/'BILANS PASYWA'!F3","v":9.7673651212671173E-2},{"$f":"'P&LA'!D56/'BILANS PASYWA'!D3","v":0.23136476426799008}]
["Wskaźnik rentowności  aktywów",{"$f":"'P&LA'!E56/'BILANS AKTYWA'!F29","v":4.2886119965227468E-2},{"$f":"'P&LA'!D56/'BILANS AKTYWA'!D29","v":9.972192513368984E-2}]